BEGIN:VCALENDAR
VERSION:2.0
PRODID:-//hacksw/handcal//NONSGML v1.0//EN
BEGIN:VEVENT
SUMMARY:Meeting Auchel
UID:f336238b-9621-4b1a-a6bf-4cbece7b99b0
DTSTART:20260508T060000Z
DTEND:20260508T170000Z
LOCATION:Localisation Piscine communautaire d'Auchel, Rue Leon Blum 62260 Auchel
CATEGORIES:Sportif
STATUS:
DESCRIPTION:<p>8h00 : Ouverture des portes,</p>
 
 <p>- 9h00 : Debut de
 la competition :</p>
 
 <p>   - Relais 8x50NL (2 Benjamins, 2
 minimes, 2 Cadets/Juniors, 2 Seniors/Veterans) selon
 inscriptions,</p>
 
 <p>   - Papillon (100m - 50m),</p>
 
 <p>   -
 Brasse (50m - 100m),</p>
 
 <p>   - 100 4 nages,</p>
 
 <p>- Fin de
 Matinee : Remise de medailles</p>
 
 <p>- Pause repas : Possibilite de
 restauration sur place repas traiteur (pates bolo ou carbo poulet 1
 boisson + dessert) entre 12 et 15€ (a confirmer).</p>
 
 <p>- 13h45
 : Ouverture des portes.</p>
 
 <p>- 14h30 : Reprise des
 nages</p>
 
 <p>   - Relais 10 ou 12x25m NL (Mini Poussin, Poussin)
 selon inscriptions;</p>
 
 <p>   - Dos (50m - 100m),</p>
 
 <p>   -
 Nage Libre (100m - 50m),</p>
 
 <p>   - Relais 8 x 50m Spe (2
 Benjamins, 2 minimes, 2 Cadets/Juniors, 2 Seniors/Veterans) selon
 inscriptions,</p>
 
 <p>   - Relais Vieux maillots selon
 inscriptions.</p>
 
 <p>- Remise des medailles.</p>
URL;VALUE=URI:https://airenatation.sportsregions.fr/evenements/2026/05/08/meeting-auchel-2442686
END:VEVENT
END:VCALENDAR
